BEGIN:VCALENDAR
VERSION:2.0
PRODID:-//Recruitment - ECPv6.15.11//NONSGML v1.0//EN
CALSCALE:GREGORIAN
METHOD:PUBLISH
X-WR-CALNAME:Recruitment
X-ORIGINAL-URL:https://recruitment.ccsd.net
X-WR-CALDESC:Events for Recruitment
REFRESH-INTERVAL;VALUE=DURATION:PT1H
X-Robots-Tag:noindex
X-PUBLISHED-TTL:PT1H
BEGIN:VTIMEZONE
TZID:America/Los_Angeles
BEGIN:DAYLIGHT
TZOFFSETFROM:-0800
TZOFFSETTO:-0700
TZNAME:PDT
DTSTART:20250309T100000
END:DAYLIGHT
BEGIN:STANDARD
TZOFFSETFROM:-0700
TZOFFSETTO:-0800
TZNAME:PST
DTSTART:20251102T090000
END:STANDARD
BEGIN:DAYLIGHT
TZOFFSETFROM:-0800
TZOFFSETTO:-0700
TZNAME:PDT
DTSTART:20260308T100000
END:DAYLIGHT
BEGIN:STANDARD
TZOFFSETFROM:-0700
TZOFFSETTO:-0800
TZNAME:PST
DTSTART:20261101T090000
END:STANDARD
BEGIN:DAYLIGHT
TZOFFSETFROM:-0800
TZOFFSETTO:-0700
TZNAME:PDT
DTSTART:20270314T100000
END:DAYLIGHT
BEGIN:STANDARD
TZOFFSETFROM:-0700
TZOFFSETTO:-0800
TZNAME:PST
DTSTART:20271107T090000
END:STANDARD
END:VTIMEZONE
BEGIN:VEVENT
DTSTART;VALUE=DATE:20260423
DTEND;VALUE=DATE:20260424
DTSTAMP:20260423T015049
CREATED:20251204T133828Z
LAST-MODIFIED:20260112T161400Z
UID:5227-1776902400-1776988799@recruitment.ccsd.net
SUMMARY:Nellis AFB Information Fair
DESCRIPTION:
URL:https://recruitment.ccsd.net/event/nellis-afb-information-fair-8/
LOCATION:Nellis Air Force Base\, Nellis AFB\, NV\, USA
END:VEVENT
BEGIN:VEVENT
DTSTART;VALUE=DATE:20260423
DTEND;VALUE=DATE:20260424
DTSTAMP:20260423T015049
CREATED:20251206T135343Z
LAST-MODIFIED:20260204T175803Z
UID:5283-1776902400-1776988799@recruitment.ccsd.net
SUMMARY:CSUSB Spring 2026 Watson College of Ed Recruitment & Job Fair
DESCRIPTION:
URL:https://recruitment.ccsd.net/event/csusb-spring-2026-watson-college-of-ed-recruitment-job-fair/
LOCATION:California State University\, 3301 University Pkwy\, San Bernardino\, CA\, United States
END:VEVENT
BEGIN:VEVENT
DTSTART;TZID=America/Los_Angeles:20260423T083000
DTEND;TZID=America/Los_Angeles:20260423T123000
DTSTAMP:20260423T015049
CREATED:20251007T105123Z
LAST-MODIFIED:20260204T175751Z
UID:5090-1776933000-1776947400@recruitment.ccsd.net
SUMMARY:Family Career Connections
DESCRIPTION:
URL:https://recruitment.ccsd.net/event/family-career-connections-7/
LOCATION:Elaine Wynn Elementary School\, 5655 Edna Ave\, Las Vegas\, NV\, United States
END:VEVENT
END:VCALENDAR