BEGIN:VCALENDAR
VERSION:2.0
PRODID:-//Recruitment - ECPv6.15.11//NONSGML v1.0//EN
CALSCALE:GREGORIAN
METHOD:PUBLISH
X-WR-CALNAME:Recruitment
X-ORIGINAL-URL:https://recruitment.ccsd.net
X-WR-CALDESC:Events for Recruitment
REFRESH-INTERVAL;VALUE=DURATION:PT1H
X-Robots-Tag:noindex
X-PUBLISHED-TTL:PT1H
BEGIN:VTIMEZONE
TZID:America/Los_Angeles
BEGIN:DAYLIGHT
TZOFFSETFROM:-0800
TZOFFSETTO:-0700
TZNAME:PDT
DTSTART:20250309T100000
END:DAYLIGHT
BEGIN:STANDARD
TZOFFSETFROM:-0700
TZOFFSETTO:-0800
TZNAME:PST
DTSTART:20251102T090000
END:STANDARD
BEGIN:DAYLIGHT
TZOFFSETFROM:-0800
TZOFFSETTO:-0700
TZNAME:PDT
DTSTART:20260308T100000
END:DAYLIGHT
BEGIN:STANDARD
TZOFFSETFROM:-0700
TZOFFSETTO:-0800
TZNAME:PST
DTSTART:20261101T090000
END:STANDARD
BEGIN:DAYLIGHT
TZOFFSETFROM:-0800
TZOFFSETTO:-0700
TZNAME:PDT
DTSTART:20270314T100000
END:DAYLIGHT
BEGIN:STANDARD
TZOFFSETFROM:-0700
TZOFFSETTO:-0800
TZNAME:PST
DTSTART:20271107T090000
END:STANDARD
END:VTIMEZONE
BEGIN:VEVENT
DTSTART;VALUE=DATE:20260320
DTEND;VALUE=DATE:20260321
DTSTAMP:20260420T043823
CREATED:20251206T135330Z
LAST-MODIFIED:20260204T175738Z
UID:5280-1773964800-1774051199@recruitment.ccsd.net
SUMMARY:Cal State Long Beach 2026 Education Job Fair
DESCRIPTION:
URL:https://recruitment.ccsd.net/event/cal-state-long-beach-2026-education-job-fair/
LOCATION:cal state long
END:VEVENT
BEGIN:VEVENT
DTSTART;VALUE=DATE:20260324
DTEND;VALUE=DATE:20260325
DTSTAMP:20260420T043823
CREATED:20251204T133815Z
LAST-MODIFIED:20260204T175738Z
UID:5225-1774310400-1774396799@recruitment.ccsd.net
SUMMARY:Western NY Teacher Recruitment Day
DESCRIPTION:
URL:https://recruitment.ccsd.net/event/western-ny-teacher-recruitment-day/
END:VEVENT
BEGIN:VEVENT
DTSTART;TZID=America/Los_Angeles:20260325T060000
DTEND;TZID=America/Los_Angeles:20260325T130000
DTSTAMP:20260420T043823
CREATED:20250818T230545Z
LAST-MODIFIED:20260204T175738Z
UID:4825-1774418400-1774443600@recruitment.ccsd.net
SUMMARY:SUNY New Paltz Teacher Recruitment Day
DESCRIPTION:
URL:https://recruitment.ccsd.net/event/suny-new-paltz-teacher-recruitment-day/
LOCATION:State University of New York at New Paltz\, 1 Hook Rd\, Rhinebeck\, NY\, United States
END:VEVENT
BEGIN:VEVENT
DTSTART;TZID=America/Los_Angeles:20260325T063000
DTEND;TZID=America/Los_Angeles:20260325T110000
DTSTAMP:20260420T043823
CREATED:20251122T130804Z
LAST-MODIFIED:20260204T175738Z
UID:5186-1774420200-1774436400@recruitment.ccsd.net
SUMMARY:PERC 2026 Education Job Fair
DESCRIPTION:
URL:https://recruitment.ccsd.net/event/perc-2026-education-job-fair/
END:VEVENT
BEGIN:VEVENT
DTSTART;VALUE=DATE:20260326
DTEND;VALUE=DATE:20260327
DTSTAMP:20260420T043823
CREATED:20251122T130817Z
LAST-MODIFIED:20260204T175751Z
UID:5187-1774483200-1774569599@recruitment.ccsd.net
SUMMARY:Montclair State University Educators' Exchange
DESCRIPTION:
URL:https://recruitment.ccsd.net/event/montclair-state-university-education-fair/
END:VEVENT
BEGIN:VEVENT
DTSTART;TZID=America/Los_Angeles:20260326T083000
DTEND;TZID=America/Los_Angeles:20260326T123000
DTSTAMP:20260420T043823
CREATED:20251007T105111Z
LAST-MODIFIED:20260204T175751Z
UID:5088-1774513800-1774528200@recruitment.ccsd.net
SUMMARY:Family Career Connections
DESCRIPTION:
URL:https://recruitment.ccsd.net/event/family-career-connections-6/
LOCATION:Diskin Elementary School\, 4220 Ravenwood Dr\, Las Vegas\, NV\, United States
END:VEVENT
BEGIN:VEVENT
DTSTART;TZID=America/Los_Angeles:20260326T160000
DTEND;TZID=America/Los_Angeles:20260326T183000
DTSTAMP:20260420T043823
CREATED:20260124T165742Z
LAST-MODIFIED:20260204T175751Z
UID:5438-1774540800-1774549800@recruitment.ccsd.net
SUMMARY:Vegas Verdes ES STEM Night
DESCRIPTION:
URL:https://recruitment.ccsd.net/event/vegas-verdes-es-stem-night/
END:VEVENT
END:VCALENDAR